BEGIN:VCALENDAR
VERSION:2.0
PRODID:Events Booking
BEGIN:VEVENT
UID:69e8f5bc818ae
SUMMARY:ARCE: The Contributions of Women in Egyptology with Dr. Kathleen Sh
 eppard
DESCRIPTION:This talk will (re)introduce several women in the history of Eg
 yptology who carved out spaces of their own through excavation\, patronage
 \, and publication and who shaped the discipline with their expertise.
LOCATION:North Main Street\, Santa Ana\, 92706 California\, United States
DTSTART:20241012T203000Z
DTEND:20241012T223000Z
DTSTAMP:20240829T032322Z
ORGANIZER;CN=Bowers Museum:MAILTO:Website@bowers.org
GEO:33.76325;-117.868189
X-APPLE-STRUCTURED-LOCATION;VALUE=URI;X-ADDRESS=North Main Street\, Santa A
 na\, 92706 California\, United States;X-APPLE-RADIUS=72;X-TITLE=Bowers Mus
 eum:33.76325;-117.868189
END:VEVENT
END:VCALENDAR