BEGIN:VCALENDAR
VERSION:2.0
PRODID:Events Booking
BEGIN:VEVENT
UID:69e90c3ee76c2
SUMMARY:Bead Society OC Bead Sale
DESCRIPTION:Join members of Bead Society Orange County as they sell/swap/tr
 ade their beads and share their findings. All are welcome!
LOCATION:North Main Street\, Santa Ana\, 92706 California\, United States
DTSTART:20240928T170000Z
DTEND:20240928T210000Z
DTSTAMP:20240829T012609Z
ORGANIZER;CN=Bowers Museum:MAILTO:Website@bowers.org
GEO:33.76325;-117.868189
X-APPLE-STRUCTURED-LOCATION;VALUE=URI;X-ADDRESS=North Main Street\, Santa A
 na\, 92706 California\, United States;X-APPLE-RADIUS=72;X-TITLE=Bowers Mus
 eum:33.76325;-117.868189
END:VEVENT
END:VCALENDAR