BEGIN:VCALENDAR
VERSION:2.0
PRODID:Events Booking
BEGIN:VEVENT
UID:69e90dc6006fe
SUMMARY:Celebrity Speaker Series presents A Morning of Song with Julie Garn
 yé
DESCRIPTION:Experience an unforgettable musical morning with the multi-tale
 nted Julie Garnyé\, a renowned singer and actress who has graced the stag
 e with legends like Josh Groban\, Carole King\, and Kristin Chenoweth.
LOCATION:North Main Street\, Santa Ana\, 92706 California\, United States
DTSTART:20241121T183000Z
DTEND:20241121T200000Z
DTSTAMP:20241023T063334Z
ORGANIZER;CN=Bowers Museum:MAILTO:Website@bowers.org
GEO:33.76325;-117.868189
X-APPLE-STRUCTURED-LOCATION;VALUE=URI;X-ADDRESS=North Main Street\, Santa A
 na\, 92706 California\, United States;X-APPLE-RADIUS=72;X-TITLE=Bowers Mus
 eum:33.76325;-117.868189
END:VEVENT
END:VCALENDAR