BEGIN:VCALENDAR
VERSION:2.0
PRODID:Events Booking
BEGIN:VEVENT
UID:69e90cc0f2e7d
SUMMARY:SOLD OUT - Fantasy Tour & Tea Party with Dreamland Maid Café
DESCRIPTION:Journey from fairy tales and folklore to fantastical worlds on 
 a docent-led tour of Fantasy: Realms of Imagination. Then join Dreamland M
 aid Café for an enchanted tea party in Bowers’ beautiful Key Courtyard\
 , featuring a selection of tea sandwiches\, scones and dessert bites.
LOCATION:North Main Street\, Santa Ana\, 92706 California\, United States
DTSTART:20241215T220000Z
DTEND:20241216T000000Z
DTSTAMP:20240925T053910Z
ORGANIZER;CN=Bowers Museum:MAILTO:Website@bowers.org
GEO:33.76325;-117.868189
X-APPLE-STRUCTURED-LOCATION;VALUE=URI;X-ADDRESS=North Main Street\, Santa A
 na\, 92706 California\, United States;X-APPLE-RADIUS=72;X-TITLE=Bowers Mus
 eum:33.76325;-117.868189
END:VEVENT
END:VCALENDAR