BEGIN:VCALENDAR
VERSION:2.0
PRODID:Events Booking
BEGIN:VEVENT
UID:69eb7cb1e60a8
SUMMARY:The Eternal Garden: Titanium Art by Aka Chen | Closing Day
DESCRIPTION:The Eternal Garden: Titanium Art by Aka Chen Closing April 13 |
  Free with General Admission
LOCATION:North Main Street\, Santa Ana\, 92706 California\, United States
DTSTART:20250413T170000Z
DTEND:20250413T230000Z
DTSTAMP:20250306T025353Z
ORGANIZER;CN=Bowers Museum:MAILTO:Website@bowers.org
GEO:33.76325;-117.868189
X-APPLE-STRUCTURED-LOCATION;VALUE=URI;X-ADDRESS=North Main Street\, Santa A
 na\, 92706 California\, United States;X-APPLE-RADIUS=72;X-TITLE=Bowers Mus
 eum:33.76325;-117.868189
END:VEVENT
END:VCALENDAR